BEGIN:VCALENDAR
VERSION:2.0
PRODID:-//Eastridge Church - ECPv6.15.20//NONSGML v1.0//EN
CALSCALE:GREGORIAN
METHOD:PUBLISH
X-ORIGINAL-URL:https://www.eastridgetoday.com
X-WR-CALDESC:Events for Eastridge Church
REFRESH-INTERVAL;VALUE=DURATION:PT1H
X-Robots-Tag:noindex
X-PUBLISHED-TTL:PT1H
BEGIN:VTIMEZONE
TZID:America/Los_Angeles
BEGIN:DAYLIGHT
TZOFFSETFROM:-0800
TZOFFSETTO:-0700
TZNAME:PDT
DTSTART:20240310T100000
END:DAYLIGHT
BEGIN:STANDARD
TZOFFSETFROM:-0700
TZOFFSETTO:-0800
TZNAME:PST
DTSTART:20241103T090000
END:STANDARD
BEGIN:DAYLIGHT
TZOFFSETFROM:-0800
TZOFFSETTO:-0700
TZNAME:PDT
DTSTART:20250309T100000
END:DAYLIGHT
BEGIN:STANDARD
TZOFFSETFROM:-0700
TZOFFSETTO:-0800
TZNAME:PST
DTSTART:20251102T090000
END:STANDARD
BEGIN:DAYLIGHT
TZOFFSETFROM:-0800
TZOFFSETTO:-0700
TZNAME:PDT
DTSTART:20260308T100000
END:DAYLIGHT
BEGIN:STANDARD
TZOFFSETFROM:-0700
TZOFFSETTO:-0800
TZNAME:PST
DTSTART:20261101T090000
END:STANDARD
BEGIN:DAYLIGHT
TZOFFSETFROM:-0800
TZOFFSETTO:-0700
TZNAME:PDT
DTSTART:20270314T100000
END:DAYLIGHT
BEGIN:STANDARD
TZOFFSETFROM:-0700
TZOFFSETTO:-0800
TZNAME:PST
DTSTART:20271107T090000
END:STANDARD
END:VTIMEZONE
BEGIN:VEVENT
DTSTART;TZID=America/Los_Angeles:20251204T113000
DTEND;TZID=America/Los_Angeles:20251204T130000
DTSTAMP:20260421T045541
CREATED:20251114T231441Z
LAST-MODIFIED:20251114T231441Z
UID:10005822-1764847800-1764853200@www.eastridgetoday.com
SUMMARY:Primetimers Christmas Brunch
DESCRIPTION:
URL:https://www.eastridgetoday.com/event/primetimers-christmas-brunch/
LOCATION:Eastridge Church – Issaquah\, 24205 SE Issaquah Fall City Rd\, Issaquah\, WA\, 98029\, United States
GEO:47.5563223;-122.0173093
X-APPLE-STRUCTURED-LOCATION;VALUE=URI;X-ADDRESS=Eastridge Church – Issaquah 24205 SE Issaquah Fall City Rd Issaquah WA 98029 United States;X-APPLE-RADIUS=500;X-TITLE=24205 SE Issaquah Fall City Rd:geo:-122.0173093,47.5563223
END:VEVENT
BEGIN:VEVENT
DTSTART;TZID=America/Los_Angeles:20251206T110000
DTEND;TZID=America/Los_Angeles:20251206T123000
DTSTAMP:20260421T045541
CREATED:20251114T231530Z
LAST-MODIFIED:20251114T231530Z
UID:10005823-1765018800-1765024200@www.eastridgetoday.com
SUMMARY:Single Ladies Brunch
DESCRIPTION:
URL:https://www.eastridgetoday.com/event/single-ladies-brunch/
LOCATION:Eastridge Church – Issaquah\, 24205 SE Issaquah Fall City Rd\, Issaquah\, WA\, 98029\, United States
GEO:47.5563223;-122.0173093
X-APPLE-STRUCTURED-LOCATION;VALUE=URI;X-ADDRESS=Eastridge Church – Issaquah 24205 SE Issaquah Fall City Rd Issaquah WA 98029 United States;X-APPLE-RADIUS=500;X-TITLE=24205 SE Issaquah Fall City Rd:geo:-122.0173093,47.5563223
END:VEVENT
BEGIN:VEVENT
DTSTART;TZID=America/Los_Angeles:20251207T180000
DTEND;TZID=America/Los_Angeles:20251207T193000
DTSTAMP:20260421T045541
CREATED:20251114T231633Z
LAST-MODIFIED:20251205T225423Z
UID:10005824-1765130400-1765135800@www.eastridgetoday.com
SUMMARY:Jingle & Jam
DESCRIPTION:JINGLE & JAM\nDec 7 | 6 PM\n\n\n\nA Christmas Celebration For The Whole Family! \n\n\n\n90 Minutes of Wonderfulness: Hot Chocolate\, Photos with Santa\, Christmas Cheer Box\, Reindeer Games & Prizes\, Story Time\, and so much more! Come celebrate the season with the us by reserving your spot today! Individual seats $10 or VIP $12 \n			\n			\n				\n				\n				\n				\n			\n				\n				\n				\n				\n				\n				\n				GET TICKETS!
URL:https://www.eastridgetoday.com/event/jingle-jam/
LOCATION:Eastridge Church – Issaquah\, 24205 SE Issaquah Fall City Rd\, Issaquah\, WA\, 98029\, United States
GEO:47.5563223;-122.0173093
X-APPLE-STRUCTURED-LOCATION;VALUE=URI;X-ADDRESS=Eastridge Church – Issaquah 24205 SE Issaquah Fall City Rd Issaquah WA 98029 United States;X-APPLE-RADIUS=500;X-TITLE=24205 SE Issaquah Fall City Rd:geo:-122.0173093,47.5563223
END:VEVENT
BEGIN:VEVENT
DTSTART;TZID=America/Los_Angeles:20251210T190000
DTEND;TZID=America/Los_Angeles:20251210T203000
DTSTAMP:20260421T045541
CREATED:20251114T231859Z
LAST-MODIFIED:20251114T231859Z
UID:10005825-1765393200-1765398600@www.eastridgetoday.com
SUMMARY:Toy Wrapping
DESCRIPTION:Come help us spread some Christmas cheer as we wrap presents for our Christmas Toy House! Dinner will be provided at 6:15 and the wrapping starts at 7! Bring the whole family for a night of fun serving our community.
URL:https://www.eastridgetoday.com/event/toy-wrapping/
LOCATION:Eastridge Church – Issaquah\, 24205 SE Issaquah Fall City Rd\, Issaquah\, WA\, 98029\, United States
GEO:47.5563223;-122.0173093
X-APPLE-STRUCTURED-LOCATION;VALUE=URI;X-ADDRESS=Eastridge Church – Issaquah 24205 SE Issaquah Fall City Rd Issaquah WA 98029 United States;X-APPLE-RADIUS=500;X-TITLE=24205 SE Issaquah Fall City Rd:geo:-122.0173093,47.5563223
END:VEVENT
BEGIN:VEVENT
DTSTART;TZID=America/Los_Angeles:20251213T150000
DTEND;TZID=America/Los_Angeles:20251213T163000
DTSTAMP:20260421T045541
CREATED:20251114T224523Z
LAST-MODIFIED:20251114T224523Z
UID:10005808-1765638000-1765643400@www.eastridgetoday.com
SUMMARY:Christmas Concert
DESCRIPTION:DEC 13 | 3 & 6 PM\nJoin us for a free concert featuring powerful original music\, hope-filled choruses\, captivating special effects\, and songs of the season that your whole family will love and enjoy. It’s FREE. There is no childcare. Doors open 30 minutes before each concert. \nDue to limited parking\, please carpool.
URL:https://www.eastridgetoday.com/event/christmas-concert/2025-12-13/1/
LOCATION:Eastridge Church – Issaquah\, 24205 SE Issaquah Fall City Rd\, Issaquah\, WA\, 98029\, United States
GEO:47.5563223;-122.0173093
X-APPLE-STRUCTURED-LOCATION;VALUE=URI;X-ADDRESS=Eastridge Church – Issaquah 24205 SE Issaquah Fall City Rd Issaquah WA 98029 United States;X-APPLE-RADIUS=500;X-TITLE=24205 SE Issaquah Fall City Rd:geo:-122.0173093,47.5563223
END:VEVENT
BEGIN:VEVENT
DTSTART;TZID=America/Los_Angeles:20251214T113000
DTEND;TZID=America/Los_Angeles:20251214T130000
DTSTAMP:20260421T045541
CREATED:20251114T232008Z
LAST-MODIFIED:20251114T232008Z
UID:10005826-1765711800-1765717200@www.eastridgetoday.com
SUMMARY:West Seattle Christmas Brunch
DESCRIPTION:
URL:https://www.eastridgetoday.com/event/west-seattle-christmas-brunch/
LOCATION:Eastridge Church – West Seattle\, 4500 39th Ave. SW\, Seattle\, WA\, 98116\, United States
GEO:47.5626876;-122.3814376
X-APPLE-STRUCTURED-LOCATION;VALUE=URI;X-ADDRESS=Eastridge Church – West Seattle 4500 39th Ave. SW Seattle WA 98116 United States;X-APPLE-RADIUS=500;X-TITLE=4500 39th Ave. SW:geo:-122.3814376,47.5626876
END:VEVENT
BEGIN:VEVENT
DTSTART;TZID=America/Los_Angeles:20251224T143000
DTEND;TZID=America/Los_Angeles:20251224T153000
DTSTAMP:20260421T045541
CREATED:20251114T224802Z
LAST-MODIFIED:20251114T224959Z
UID:10005810-1766586600-1766590200@www.eastridgetoday.com
SUMMARY:Christmas Eve Candlelight Service
DESCRIPTION:DEC 24 | 2:30\, 4\, 5:30\, 7 & 11 PM\nMake plans now to join us on the most cherished night of the year. We’ll light candles and reflect on the birth of Jesus during these family-friendly communion services. No childcare.
URL:https://www.eastridgetoday.com/event/christmas-eve-candlelight-service/2025-12-24/1/
LOCATION:Eastridge Church – Issaquah\, 24205 SE Issaquah Fall City Rd\, Issaquah\, WA\, 98029\, United States
GEO:47.5563223;-122.0173093
X-APPLE-STRUCTURED-LOCATION;VALUE=URI;X-ADDRESS=Eastridge Church – Issaquah 24205 SE Issaquah Fall City Rd Issaquah WA 98029 United States;X-APPLE-RADIUS=500;X-TITLE=24205 SE Issaquah Fall City Rd:geo:-122.0173093,47.5563223
END:VEVENT
BEGIN:VEVENT
DTSTART;TZID=America/Los_Angeles:20251224T173000
DTEND;TZID=America/Los_Angeles:20251224T183000
DTSTAMP:20260421T045541
CREATED:20251114T232059Z
LAST-MODIFIED:20251114T232059Z
UID:10005827-1766597400-1766601000@www.eastridgetoday.com
SUMMARY:West Seattle Christmas Eve Service
DESCRIPTION:
URL:https://www.eastridgetoday.com/event/west-seattle-christmas-eve-service/
LOCATION:Eastridge Church – West Seattle\, 4500 39th Ave. SW\, Seattle\, WA\, 98116\, United States
GEO:47.5626876;-122.3814376
X-APPLE-STRUCTURED-LOCATION;VALUE=URI;X-ADDRESS=Eastridge Church – West Seattle 4500 39th Ave. SW Seattle WA 98116 United States;X-APPLE-RADIUS=500;X-TITLE=4500 39th Ave. SW:geo:-122.3814376,47.5626876
END:VEVENT
BEGIN:VEVENT
DTSTART;TZID=America/Los_Angeles:20260104T103000
DTEND;TZID=America/Los_Angeles:20260104T113000
DTSTAMP:20260421T045541
CREATED:20251114T231013Z
LAST-MODIFIED:20251114T231013Z
UID:10005818-1767522600-1767526200@www.eastridgetoday.com
SUMMARY:Baptism Class
DESCRIPTION:If you’re new to Christianity and ready to take the next step in your faith journey\, join us for our next water baptism class. Water baptism is an important step in your relationship with Christ because it’s an outward way of showing others your commitment to Jesus. This informational class will be offered after each service at our Issaquah Campus. Register here.
URL:https://www.eastridgetoday.com/event/baptism-class/2026-01-04/1/
LOCATION:Eastridge Church – Issaquah\, 24205 SE Issaquah Fall City Rd\, Issaquah\, WA\, 98029\, United States
GEO:47.5563223;-122.0173093
X-APPLE-STRUCTURED-LOCATION;VALUE=URI;X-ADDRESS=Eastridge Church – Issaquah 24205 SE Issaquah Fall City Rd Issaquah WA 98029 United States;X-APPLE-RADIUS=500;X-TITLE=24205 SE Issaquah Fall City Rd:geo:-122.0173093,47.5563223
END:VEVENT
BEGIN:VEVENT
DTSTART;TZID=America/Los_Angeles:20260105T060000
DTEND;TZID=America/Los_Angeles:20260105T070000
DTSTAMP:20260421T045541
CREATED:20251114T215346Z
LAST-MODIFIED:20251220T011523Z
UID:10005410-1767592800-1767596400@www.eastridgetoday.com
SUMMARY:Morning Prayer
DESCRIPTION:
URL:https://www.eastridgetoday.com/event/morning-prayer/2026-01-05/
LOCATION:Eastridge Church – Issaquah\, 24205 SE Issaquah Fall City Rd\, Issaquah\, WA\, 98029\, United States
GEO:47.5563223;-122.0173093
X-APPLE-STRUCTURED-LOCATION;VALUE=URI;X-ADDRESS=Eastridge Church – Issaquah 24205 SE Issaquah Fall City Rd Issaquah WA 98029 United States;X-APPLE-RADIUS=500;X-TITLE=24205 SE Issaquah Fall City Rd:geo:-122.0173093,47.5563223
END:VEVENT
BEGIN:VEVENT
DTSTART;TZID=America/Los_Angeles:20260105T120000
DTEND;TZID=America/Los_Angeles:20260105T130000
DTSTAMP:20260421T045541
CREATED:20251114T215553Z
LAST-MODIFIED:20251114T220009Z
UID:10005779-1767614400-1767618000@www.eastridgetoday.com
SUMMARY:Noon Prayer
DESCRIPTION:
URL:https://www.eastridgetoday.com/event/noon-prayer/2026-01-05/
LOCATION:Eastridge Church – Issaquah\, 24205 SE Issaquah Fall City Rd\, Issaquah\, WA\, 98029\, United States
GEO:47.5563223;-122.0173093
X-APPLE-STRUCTURED-LOCATION;VALUE=URI;X-ADDRESS=Eastridge Church – Issaquah 24205 SE Issaquah Fall City Rd Issaquah WA 98029 United States;X-APPLE-RADIUS=500;X-TITLE=24205 SE Issaquah Fall City Rd:geo:-122.0173093,47.5563223
END:VEVENT
BEGIN:VEVENT
DTSTART;TZID=America/Los_Angeles:20260105T180000
DTEND;TZID=America/Los_Angeles:20260105T190000
DTSTAMP:20260421T045541
CREATED:20251114T215804Z
LAST-MODIFIED:20260102T192331Z
UID:10005955-1767636000-1767639600@www.eastridgetoday.com
SUMMARY:Prayer Service
DESCRIPTION:
URL:https://www.eastridgetoday.com/event/prayer-service/2026-01-05/
LOCATION:Eastridge Church – Issaquah\, 24205 SE Issaquah Fall City Rd\, Issaquah\, WA\, 98029\, United States
GEO:47.5563223;-122.0173093
X-APPLE-STRUCTURED-LOCATION;VALUE=URI;X-ADDRESS=Eastridge Church – Issaquah 24205 SE Issaquah Fall City Rd Issaquah WA 98029 United States;X-APPLE-RADIUS=500;X-TITLE=24205 SE Issaquah Fall City Rd:geo:-122.0173093,47.5563223
END:VEVENT
BEGIN:VEVENT
DTSTART;TZID=America/Los_Angeles:20260109T180000
DTEND;TZID=America/Los_Angeles:20260109T193000
DTSTAMP:20260421T045541
CREATED:20251114T231133Z
LAST-MODIFIED:20251114T231133Z
UID:10005820-1767981600-1767987000@www.eastridgetoday.com
SUMMARY:Break-Fast Meal
DESCRIPTION:
URL:https://www.eastridgetoday.com/event/break-fast-meal/
LOCATION:Eastridge Church – Issaquah\, 24205 SE Issaquah Fall City Rd\, Issaquah\, WA\, 98029\, United States
GEO:47.5563223;-122.0173093
X-APPLE-STRUCTURED-LOCATION;VALUE=URI;X-ADDRESS=Eastridge Church – Issaquah 24205 SE Issaquah Fall City Rd Issaquah WA 98029 United States;X-APPLE-RADIUS=500;X-TITLE=24205 SE Issaquah Fall City Rd:geo:-122.0173093,47.5563223
END:VEVENT
BEGIN:VEVENT
DTSTART;TZID=America/Los_Angeles:20260111T123000
DTEND;TZID=America/Los_Angeles:20260111T143000
DTSTAMP:20260421T045541
CREATED:20260109T154837Z
LAST-MODIFIED:20260109T154837Z
UID:10006036-1768134600-1768141800@www.eastridgetoday.com
SUMMARY:Eastridge Cares - Echo Glen
DESCRIPTION:
URL:https://www.eastridgetoday.com/event/eastridge-cares-echo-glen/
LOCATION:Eastridge Church – Chapel\, 24205 SE Issaquah Fall City Rd\, Issaquah\, WA\, 98029\, United States
GEO:47.5563223;-122.0173093
X-APPLE-STRUCTURED-LOCATION;VALUE=URI;X-ADDRESS=Eastridge Church – Chapel 24205 SE Issaquah Fall City Rd Issaquah WA 98029 United States;X-APPLE-RADIUS=500;X-TITLE=24205 SE Issaquah Fall City Rd:geo:-122.0173093,47.5563223
END:VEVENT
BEGIN:VEVENT
DTSTART;TZID=America/Los_Angeles:20260115T181500
DTEND;TZID=America/Los_Angeles:20260115T200000
DTSTAMP:20260421T045541
CREATED:20251114T223112Z
LAST-MODIFIED:20260318T215851Z
UID:10005941-1768500900-1768507200@www.eastridgetoday.com
SUMMARY:Alpha
DESCRIPTION:
URL:https://www.eastridgetoday.com/event/alpha/2026-01-15/
LOCATION:Eastridge Church – Issaquah\, 24205 SE Issaquah Fall City Rd\, Issaquah\, WA\, 98029\, United States
GEO:47.5563223;-122.0173093
X-APPLE-STRUCTURED-LOCATION;VALUE=URI;X-ADDRESS=Eastridge Church – Issaquah 24205 SE Issaquah Fall City Rd Issaquah WA 98029 United States;X-APPLE-RADIUS=500;X-TITLE=24205 SE Issaquah Fall City Rd:geo:-122.0173093,47.5563223
END:VEVENT
BEGIN:VEVENT
DTSTART;TZID=America/Los_Angeles:20260115T181500
DTEND;TZID=America/Los_Angeles:20260115T200000
DTSTAMP:20260421T045541
CREATED:20251114T232837Z
LAST-MODIFIED:20260318T224933Z
UID:10005928-1768500900-1768507200@www.eastridgetoday.com
SUMMARY:Solutions Groups
DESCRIPTION:
URL:https://www.eastridgetoday.com/event/grief-share/2026-01-15/
LOCATION:Eastridge Church – Issaquah\, 24205 SE Issaquah Fall City Rd\, Issaquah\, WA\, 98029\, United States
GEO:47.5563223;-122.0173093
X-APPLE-STRUCTURED-LOCATION;VALUE=URI;X-ADDRESS=Eastridge Church – Issaquah 24205 SE Issaquah Fall City Rd Issaquah WA 98029 United States;X-APPLE-RADIUS=500;X-TITLE=24205 SE Issaquah Fall City Rd:geo:-122.0173093,47.5563223
END:VEVENT
BEGIN:VEVENT
DTSTART;TZID=America/Los_Angeles:20260122T163000
DTEND;TZID=America/Los_Angeles:20260122T183000
DTSTAMP:20260421T045541
CREATED:20260109T155458Z
LAST-MODIFIED:20260109T155835Z
UID:10006037-1769099400-1769106600@www.eastridgetoday.com
SUMMARY:Eastridge Cares - Issaquah Meals Program
DESCRIPTION:
URL:https://www.eastridgetoday.com/event/eastridge-cares-issaquah-meals-program/2026-01-22/
LOCATION:WA
END:VEVENT
BEGIN:VEVENT
DTSTART;TZID=America/Los_Angeles:20260130T190000
DTEND;TZID=America/Los_Angeles:20260131T170000
DTSTAMP:20260421T045541
CREATED:20251114T210810Z
LAST-MODIFIED:20251114T210847Z
UID:10005390-1769799600-1769878800@www.eastridgetoday.com
SUMMARY:Winterfest 2026
DESCRIPTION:
URL:https://www.eastridgetoday.com/event/winterfest-2026/
LOCATION:Eastridge Church – Issaquah\, 24205 SE Issaquah Fall City Rd\, Issaquah\, WA\, 98029\, United States
GEO:47.5563223;-122.0173093
X-APPLE-STRUCTURED-LOCATION;VALUE=URI;X-ADDRESS=Eastridge Church – Issaquah 24205 SE Issaquah Fall City Rd Issaquah WA 98029 United States;X-APPLE-RADIUS=500;X-TITLE=24205 SE Issaquah Fall City Rd:geo:-122.0173093,47.5563223
END:VEVENT
BEGIN:VEVENT
DTSTART;TZID=America/Los_Angeles:20260203T130000
DTEND;TZID=America/Los_Angeles:20260203T150000
DTSTAMP:20260421T045541
CREATED:20260109T160001Z
LAST-MODIFIED:20260109T160001Z
UID:10006040-1770123600-1770130800@www.eastridgetoday.com
SUMMARY:Eastridge Cares - Issaquah Food Bank Warehouse
DESCRIPTION:
URL:https://www.eastridgetoday.com/event/eastridge-cares-issaquah-food-bank-warehouse/
LOCATION:WA
END:VEVENT
BEGIN:VEVENT
DTSTART;TZID=America/Los_Angeles:20260204T190000
DTEND;TZID=America/Los_Angeles:20260204T203000
DTSTAMP:20260421T045541
CREATED:20260109T154021Z
LAST-MODIFIED:20260129T222824Z
UID:10006035-1770231600-1770237000@www.eastridgetoday.com
SUMMARY:First Wednesday
DESCRIPTION:FEB 4th | 7 PM\nCome and experience FIRST WEDNESDAY! \nBring your friends and family and encounter First Wednesday\, an all-church event. This event is an opportunity to spend time in extended worship and prayer\, making space for God to move in our midst. We encourage families to bring their children and join in worship together. Dinner is at 6:15 and the service starts at 7 PM!  \nKids ministry is availble for children through 5th grade.
URL:https://www.eastridgetoday.com/event/first-wednesday/
LOCATION:Eastridge Church – Issaquah\, 24205 SE Issaquah Fall City Rd\, Issaquah\, WA\, 98029\, United States
GEO:47.5563223;-122.0173093
X-APPLE-STRUCTURED-LOCATION;VALUE=URI;X-ADDRESS=Eastridge Church – Issaquah 24205 SE Issaquah Fall City Rd Issaquah WA 98029 United States;X-APPLE-RADIUS=500;X-TITLE=24205 SE Issaquah Fall City Rd:geo:-122.0173093,47.5563223
END:VEVENT
BEGIN:VEVENT
DTSTART;TZID=America/Los_Angeles:20260205T190000
DTEND;TZID=America/Los_Angeles:20260205T203000
DTSTAMP:20260421T045541
CREATED:20260109T160201Z
LAST-MODIFIED:20260109T160201Z
UID:10006041-1770318000-1770323400@www.eastridgetoday.com
SUMMARY:Eastridge Cares - Valentine Gift Bags & Cards
DESCRIPTION:
URL:https://www.eastridgetoday.com/event/eastridge-cares-valentine-gift-bags-cards/
LOCATION:Eastridge Church – Issaquah\, 24205 SE Issaquah Fall City Rd\, Issaquah\, WA\, 98029\, United States
GEO:47.5563223;-122.0173093
X-APPLE-STRUCTURED-LOCATION;VALUE=URI;X-ADDRESS=Eastridge Church – Issaquah 24205 SE Issaquah Fall City Rd Issaquah WA 98029 United States;X-APPLE-RADIUS=500;X-TITLE=24205 SE Issaquah Fall City Rd:geo:-122.0173093,47.5563223
END:VEVENT
BEGIN:VEVENT
DTSTART;TZID=America/Los_Angeles:20260212T093000
DTEND;TZID=America/Los_Angeles:20260212T110000
DTSTAMP:20260421T045541
CREATED:20260129T220121Z
LAST-MODIFIED:20260129T222619Z
UID:10006056-1770888600-1770894000@www.eastridgetoday.com
SUMMARY:Ministry Breakfast
DESCRIPTION:
URL:https://www.eastridgetoday.com/event/ministry-breakfast/
LOCATION:Eastridge Church – Issaquah\, 24205 SE Issaquah Fall City Rd\, Issaquah\, WA\, 98029\, United States
GEO:47.5563223;-122.0173093
X-APPLE-STRUCTURED-LOCATION;VALUE=URI;X-ADDRESS=Eastridge Church – Issaquah 24205 SE Issaquah Fall City Rd Issaquah WA 98029 United States;X-APPLE-RADIUS=500;X-TITLE=24205 SE Issaquah Fall City Rd:geo:-122.0173093,47.5563223
END:VEVENT
BEGIN:VEVENT
DTSTART;TZID=America/Los_Angeles:20260301T180000
DTEND;TZID=America/Los_Angeles:20260301T203000
DTSTAMP:20260421T045541
CREATED:20260109T161034Z
LAST-MODIFIED:20260203T012203Z
UID:10006045-1772388000-1772397000@www.eastridgetoday.com
SUMMARY:Vision Banquet
DESCRIPTION:VISION BANQUET\n						March 1 | 6 PM\n						Kick off Vision Week with a night focused on what God is doing and where He is leading us. Pastor Josh will share vision for the future of Eastridge and how each of us plays a role in what’s ahead. Bring the whole family! Kids will enjoy a vision night of their own designed just for them. \nIssaquah Campus \nRegistration required – reserve your spot today! \n						Register Here!
URL:https://www.eastridgetoday.com/event/vision-banquet/
LOCATION:Eastridge Church – Issaquah\, 24205 SE Issaquah Fall City Rd\, Issaquah\, WA\, 98029\, United States
GEO:47.5563223;-122.0173093
X-APPLE-STRUCTURED-LOCATION;VALUE=URI;X-ADDRESS=Eastridge Church – Issaquah 24205 SE Issaquah Fall City Rd Issaquah WA 98029 United States;X-APPLE-RADIUS=500;X-TITLE=24205 SE Issaquah Fall City Rd:geo:-122.0173093,47.5563223
END:VEVENT
BEGIN:VEVENT
DTSTART;TZID=America/Los_Angeles:20260304T190000
DTEND;TZID=America/Los_Angeles:20260304T203000
DTSTAMP:20260421T045541
CREATED:20260203T012546Z
LAST-MODIFIED:20260203T012557Z
UID:10006057-1772650800-1772656200@www.eastridgetoday.com
SUMMARY:First Wednesday
DESCRIPTION:FIRST WEDNESDAY\n						March 4 | 7 PM\n						Join us for a special First Wednesday service during Vision Week! We’ll hear an impactful message from Pastor Banning Liebscher\, worship together\, and spend time in prayer. This night is all about creating space for God to speak and move in powerful ways. \nDinner is at 6:15 and the service starts at 7. Kids ministry is available through 5th grade.
URL:https://www.eastridgetoday.com/event/first-wednesday-2/
LOCATION:Eastridge Church – Issaquah\, 24205 SE Issaquah Fall City Rd\, Issaquah\, WA\, 98029\, United States
GEO:47.5563223;-122.0173093
X-APPLE-STRUCTURED-LOCATION;VALUE=URI;X-ADDRESS=Eastridge Church – Issaquah 24205 SE Issaquah Fall City Rd Issaquah WA 98029 United States;X-APPLE-RADIUS=500;X-TITLE=24205 SE Issaquah Fall City Rd:geo:-122.0173093,47.5563223
END:VEVENT
BEGIN:VEVENT
DTSTART;VALUE=DATE:20260308
DTEND;VALUE=DATE:20260309
DTSTAMP:20260421T045541
CREATED:20260203T013002Z
LAST-MODIFIED:20260203T013017Z
UID:10006058-1772928000-1773014399@www.eastridgetoday.com
SUMMARY:Vision Sunday
DESCRIPTION:VISION SUNDAY\n						March 8 \n						Issaquah | 9 & 11 AM \nWest Seattle | 10 AM \nWe’ll wrap up the week with a church-wide celebration on Vision Sunday! We’ll receive the Inspire Offering and have the opportunity to invest in the mission of the church bringing the hope of Jesus to every generation across the street and around the world. We encourage you to pray about how you will be involved in this exciting moment\, with your best gift to the Lord and a faith promise over the next year of giving. Let’s believe God for great things!
URL:https://www.eastridgetoday.com/event/vision-sunday/
LOCATION:Eastridge Church – Issaquah\, 24205 SE Issaquah Fall City Rd\, Issaquah\, WA\, 98029\, United States
GEO:47.5563223;-122.0173093
X-APPLE-STRUCTURED-LOCATION;VALUE=URI;X-ADDRESS=Eastridge Church – Issaquah 24205 SE Issaquah Fall City Rd Issaquah WA 98029 United States;X-APPLE-RADIUS=500;X-TITLE=24205 SE Issaquah Fall City Rd:geo:-122.0173093,47.5563223
END:VEVENT
BEGIN:VEVENT
DTSTART;TZID=America/Los_Angeles:20260310T160000
DTEND;TZID=America/Los_Angeles:20260310T180000
DTSTAMP:20260421T045541
CREATED:20260109T160511Z
LAST-MODIFIED:20260109T160511Z
UID:10006043-1773158400-1773165600@www.eastridgetoday.com
SUMMARY:Eastridge Cares - Kidvantage
DESCRIPTION:
URL:https://www.eastridgetoday.com/event/eastridge-cares-kidvantage/
LOCATION:WA
END:VEVENT
BEGIN:VEVENT
DTSTART;TZID=America/Los_Angeles:20260314T170000
DTEND;TZID=America/Los_Angeles:20260314T190000
DTSTAMP:20260421T045541
CREATED:20260109T160847Z
LAST-MODIFIED:20260309T160557Z
UID:10006044-1773507600-1773514800@www.eastridgetoday.com
SUMMARY:5th Grade Late Night
DESCRIPTION:
URL:https://www.eastridgetoday.com/event/5th-grade-late-night/
LOCATION:WA
END:VEVENT
BEGIN:VEVENT
DTSTART;TZID=America/Los_Angeles:20260401T190000
DTEND;TZID=America/Los_Angeles:20260401T203000
DTSTAMP:20260421T045541
CREATED:20260318T171928Z
LAST-MODIFIED:20260318T172207Z
UID:10006081-1775070000-1775075400@www.eastridgetoday.com
SUMMARY:Project Hope
DESCRIPTION:Project Hope is on April 1 at 7 PM\, and we would love for you to be part of it. On this night\, our church will gather to assemble resources that will be delivered to foster families\, youth in need\, single mothers\, and seniors in our community. There are serving opportunities for every age\, and families are encouraged to serve together. Childcare will also be available through age five. Invite a friend\, neighbor\, or co-worker to serve alongside you\, and sign-up today to be part of bringing hope to someone.
URL:https://www.eastridgetoday.com/event/project-hope/
LOCATION:Eastridge Church – Issaquah\, 24205 SE Issaquah Fall City Rd\, Issaquah\, WA\, 98029\, United States
GEO:47.5563223;-122.0173093
X-APPLE-STRUCTURED-LOCATION;VALUE=URI;X-ADDRESS=Eastridge Church – Issaquah 24205 SE Issaquah Fall City Rd Issaquah WA 98029 United States;X-APPLE-RADIUS=500;X-TITLE=24205 SE Issaquah Fall City Rd:geo:-122.0173093,47.5563223
END:VEVENT
BEGIN:VEVENT
DTSTART;TZID=America/Los_Angeles:20260403T190000
DTEND;TZID=America/Los_Angeles:20260403T203000
DTSTAMP:20260421T045541
CREATED:20260318T170638Z
LAST-MODIFIED:20260318T170840Z
UID:10006080-1775242800-1775248200@www.eastridgetoday.com
SUMMARY:Good Friday Service
DESCRIPTION:Good Friday at Eastridge is a reflective service where we remember the sacrifice Jesus made on the cross. Through worship\, scripture\, and communion we pause to prepare our hearts for the hope we celebrate on Easter. Kids Ministry is availabe through 5th grade. 
URL:https://www.eastridgetoday.com/event/good-friday-service/
LOCATION:Eastridge Church – Issaquah\, 24205 SE Issaquah Fall City Rd\, Issaquah\, WA\, 98029\, United States
GEO:47.5563223;-122.0173093
X-APPLE-STRUCTURED-LOCATION;VALUE=URI;X-ADDRESS=Eastridge Church – Issaquah 24205 SE Issaquah Fall City Rd Issaquah WA 98029 United States;X-APPLE-RADIUS=500;X-TITLE=24205 SE Issaquah Fall City Rd:geo:-122.0173093,47.5563223
END:VEVENT
BEGIN:VEVENT
DTSTART;TZID=America/Los_Angeles:20260405T123000
DTEND;TZID=America/Los_Angeles:20260405T133000
DTSTAMP:20260421T045541
CREATED:20260318T211625Z
LAST-MODIFIED:20260318T212004Z
UID:10006082-1775392200-1775395800@www.eastridgetoday.com
SUMMARY:12:30pm Service (Issaquah & Online)
DESCRIPTION:We’re making room for more! For Easter Sunday only\, we’re adding a 12:30 PM service so even more people can experience the hope of Jesus. Invite someone and plan to join us. We can’t wait to celebrate together!
URL:https://www.eastridgetoday.com/event/1230pm-service-issaquah-online/
LOCATION:Eastridge Church – Issaquah\, 24205 SE Issaquah Fall City Rd\, Issaquah\, WA\, 98029\, United States
GEO:47.5563223;-122.0173093
X-APPLE-STRUCTURED-LOCATION;VALUE=URI;X-ADDRESS=Eastridge Church – Issaquah 24205 SE Issaquah Fall City Rd Issaquah WA 98029 United States;X-APPLE-RADIUS=500;X-TITLE=24205 SE Issaquah Fall City Rd:geo:-122.0173093,47.5563223
END:VEVENT
END:VCALENDAR