BEGIN:VCALENDAR
VERSION:2.0
PRODID:-//Eastridge Church - ECPv6.15.20//NONSGML v1.0//EN
CALSCALE:GREGORIAN
METHOD:PUBLISH
X-ORIGINAL-URL:https://www.eastridgetoday.com
X-WR-CALDESC:Events for Eastridge Church
REFRESH-INTERVAL;VALUE=DURATION:PT1H
X-Robots-Tag:noindex
X-PUBLISHED-TTL:PT1H
BEGIN:VTIMEZONE
TZID:America/Los_Angeles
BEGIN:DAYLIGHT
TZOFFSETFROM:-0800
TZOFFSETTO:-0700
TZNAME:PDT
DTSTART:20250309T100000
END:DAYLIGHT
BEGIN:STANDARD
TZOFFSETFROM:-0700
TZOFFSETTO:-0800
TZNAME:PST
DTSTART:20251102T090000
END:STANDARD
BEGIN:DAYLIGHT
TZOFFSETFROM:-0800
TZOFFSETTO:-0700
TZNAME:PDT
DTSTART:20260308T100000
END:DAYLIGHT
BEGIN:STANDARD
TZOFFSETFROM:-0700
TZOFFSETTO:-0800
TZNAME:PST
DTSTART:20261101T090000
END:STANDARD
BEGIN:DAYLIGHT
TZOFFSETFROM:-0800
TZOFFSETTO:-0700
TZNAME:PDT
DTSTART:20270314T100000
END:DAYLIGHT
BEGIN:STANDARD
TZOFFSETFROM:-0700
TZOFFSETTO:-0800
TZNAME:PST
DTSTART:20271107T090000
END:STANDARD
END:VTIMEZONE
BEGIN:VEVENT
DTSTART;TZID=America/Los_Angeles:20260111T110000
DTEND;TZID=America/Los_Angeles:20260111T123000
DTSTAMP:20260421T015241
CREATED:20251114T222139Z
LAST-MODIFIED:20251114T222139Z
UID:10005800-1768129200-1768134600@www.eastridgetoday.com
SUMMARY:Membership Class
DESCRIPTION:
URL:https://www.eastridgetoday.com/event/membership-class/2026-01-11/
LOCATION:Eastridge Church – Chapel\, 24205 SE Issaquah Fall City Rd\, Issaquah\, WA\, 98029\, United States
GEO:47.5563223;-122.0173093
X-APPLE-STRUCTURED-LOCATION;VALUE=URI;X-ADDRESS=Eastridge Church – Chapel 24205 SE Issaquah Fall City Rd Issaquah WA 98029 United States;X-APPLE-RADIUS=500;X-TITLE=24205 SE Issaquah Fall City Rd:geo:-122.0173093,47.5563223
END:VEVENT
BEGIN:VEVENT
DTSTART;TZID=America/Los_Angeles:20260111T123000
DTEND;TZID=America/Los_Angeles:20260111T143000
DTSTAMP:20260421T015241
CREATED:20260109T154837Z
LAST-MODIFIED:20260109T154837Z
UID:10006036-1768134600-1768141800@www.eastridgetoday.com
SUMMARY:Eastridge Cares - Echo Glen
DESCRIPTION:
URL:https://www.eastridgetoday.com/event/eastridge-cares-echo-glen/
LOCATION:Eastridge Church – Chapel\, 24205 SE Issaquah Fall City Rd\, Issaquah\, WA\, 98029\, United States
GEO:47.5563223;-122.0173093
X-APPLE-STRUCTURED-LOCATION;VALUE=URI;X-ADDRESS=Eastridge Church – Chapel 24205 SE Issaquah Fall City Rd Issaquah WA 98029 United States;X-APPLE-RADIUS=500;X-TITLE=24205 SE Issaquah Fall City Rd:geo:-122.0173093,47.5563223
END:VEVENT
BEGIN:VEVENT
DTSTART;TZID=America/Los_Angeles:20260113T190000
DTEND;TZID=America/Los_Angeles:20260113T203000
DTSTAMP:20260421T015241
CREATED:20251114T210204Z
LAST-MODIFIED:20251114T210204Z
UID:10005137-1768330800-1768336200@www.eastridgetoday.com
SUMMARY:Youth Church
DESCRIPTION:Our purpose at Eastridge Youth is to reach every student who is lost\, searching\, and hurting with the love of Jesus. Our vision is that every ONE will have the opportunity to hear the gospel before they graduate high school. Our mission is to become united together as ONE by living as an uncommon community of believers that is outwardly focused on reaching the ONE. \nWHERE WE MEET\nJoin us every Tuesday for Youth Church at 7pm in person at our Issaquah campus! Community Groups meet every Sunday morning at 9am in person at our Issaquah campus.
URL:https://www.eastridgetoday.com/event/youth-church/2026-01-13/
LOCATION:Eastridge Church – Issaquah\, 24205 SE Issaquah Fall City Rd\, Issaquah\, WA\, 98029\, United States
GEO:47.5563223;-122.0173093
X-APPLE-STRUCTURED-LOCATION;VALUE=URI;X-ADDRESS=Eastridge Church – Issaquah 24205 SE Issaquah Fall City Rd Issaquah WA 98029 United States;X-APPLE-RADIUS=500;X-TITLE=24205 SE Issaquah Fall City Rd:geo:-122.0173093,47.5563223
END:VEVENT
BEGIN:VEVENT
DTSTART;TZID=America/Los_Angeles:20260114T190000
DTEND;TZID=America/Los_Angeles:20260114T203000
DTSTAMP:20260421T015241
CREATED:20260109T032528Z
LAST-MODIFIED:20260109T033305Z
UID:10005107-1768417200-1768422600@www.eastridgetoday.com
SUMMARY:GROW NIGHT
DESCRIPTION:Join our GROW NIGHT on Wednesday evenings. This is a great opportunity for us to step into community and get plugged into a group here at church. Bring the whole family to Kids Ministry for birth through 5th grade\, with dinner available at 6:15 PM and groups starting at 7 PM! \nTHE GIFTS OF THE SPIRIT BIBLE STUDY | Pastor Josh will lead a co-ed Bible Study on the Gifts of the Spirit\, we and discover how the Holy Spirit works and operates in our lives with discussions at table groups for men\, women and couples. It’s a great chance to connect! \nCRUCIAL CONVERSATIONS | Connect with other parents during this group\, which includes a teaching time and group discussion to help parents develop their kids with a biblical worldview. Let us know you’re coming here.
URL:https://www.eastridgetoday.com/event/grow-night-2/2026-01-14/
LOCATION:Eastridge Church – Issaquah\, 24205 SE Issaquah Fall City Rd\, Issaquah\, WA\, 98029\, United States
GEO:47.5563223;-122.0173093
X-APPLE-STRUCTURED-LOCATION;VALUE=URI;X-ADDRESS=Eastridge Church – Issaquah 24205 SE Issaquah Fall City Rd Issaquah WA 98029 United States;X-APPLE-RADIUS=500;X-TITLE=24205 SE Issaquah Fall City Rd:geo:-122.0173093,47.5563223
END:VEVENT
BEGIN:VEVENT
DTSTART;TZID=America/Los_Angeles:20260115T181500
DTEND;TZID=America/Los_Angeles:20260115T200000
DTSTAMP:20260421T015241
CREATED:20251114T223112Z
LAST-MODIFIED:20260318T215851Z
UID:10005941-1768500900-1768507200@www.eastridgetoday.com
SUMMARY:Alpha
DESCRIPTION:
URL:https://www.eastridgetoday.com/event/alpha/2026-01-15/
LOCATION:Eastridge Church – Issaquah\, 24205 SE Issaquah Fall City Rd\, Issaquah\, WA\, 98029\, United States
GEO:47.5563223;-122.0173093
X-APPLE-STRUCTURED-LOCATION;VALUE=URI;X-ADDRESS=Eastridge Church – Issaquah 24205 SE Issaquah Fall City Rd Issaquah WA 98029 United States;X-APPLE-RADIUS=500;X-TITLE=24205 SE Issaquah Fall City Rd:geo:-122.0173093,47.5563223
END:VEVENT
BEGIN:VEVENT
DTSTART;TZID=America/Los_Angeles:20260115T181500
DTEND;TZID=America/Los_Angeles:20260115T200000
DTSTAMP:20260421T015241
CREATED:20251114T232837Z
LAST-MODIFIED:20260318T224933Z
UID:10005928-1768500900-1768507200@www.eastridgetoday.com
SUMMARY:Solutions Groups
DESCRIPTION:
URL:https://www.eastridgetoday.com/event/grief-share/2026-01-15/
LOCATION:Eastridge Church – Issaquah\, 24205 SE Issaquah Fall City Rd\, Issaquah\, WA\, 98029\, United States
GEO:47.5563223;-122.0173093
X-APPLE-STRUCTURED-LOCATION;VALUE=URI;X-ADDRESS=Eastridge Church – Issaquah 24205 SE Issaquah Fall City Rd Issaquah WA 98029 United States;X-APPLE-RADIUS=500;X-TITLE=24205 SE Issaquah Fall City Rd:geo:-122.0173093,47.5563223
END:VEVENT
END:VCALENDAR